BEGIN:VCALENDAR
VERSION:2.0
PRODID:-//Navidad en Soto del Real - ECPv4.6.6//NONSGML v1.0//EN
CALSCALE:GREGORIAN
METHOD:PUBLISH
X-WR-CALNAME:Navidad en Soto del Real
X-ORIGINAL-URL:https://navidad2017.ayto-sotodelreal.es
X-WR-CALDESC:Events for Navidad en Soto del Real
BEGIN:VEVENT
DTSTART;TZID=UTC+1:20171228T180000
DTEND;TZID=UTC+1:20171228T180000
DTSTAMP:20260419T135648
CREATED:20171201T002010Z
LAST-MODIFIED:20171213T151530Z
UID:376-1514484000-1514484000@navidad2017.ayto-sotodelreal.es
SUMMARY:Títeres "El viaje de Martín"
DESCRIPTION:\n\n\n	\n\n\n\n\n	Esta es la historia de Martín luchando contra lo que un día le dijeron que tenía que ser su destino. Una historia de superación donde un cerdito afronta sus propios miedos y emprende un viaje en busca de lo que más le gusta… un buen lodazal. \nUna propuesta innovadora donde títeres\, teatro\, dibujos animados y audiovisuales confluyen teniendo como soporte un gran lienzo articulado\, todos estos elementos interactúan junto a la actriz titiritera que es la encargada de dar vida desde dentro\, junto con un programador audiovisual que es el encargado de dar vida desde fuera\, para conformar el universo de Martín en su aventura. \nTitiriguiri Teatro y Títeres\, es una compañía creada en el 2006 que apuesta por montajes de fuerte poder visual\, realizando trabajos de fusión entre el teatro de títeres y el lenguaje audiovisual\, investiga y experimenta con nuevas tecnologías buscando su máxima conexión con el universo infantil. \nEl Viaje de Martín es un buen ejemplo de ello\, esta obra ha sido seleccionada por la Red de Teatros de La Comunidad de Madrid donde está programada en 23 de sus municipios\, FETEN 2012\, Red de teatros Castilla León\, festival Redondéela\, Tolosa\, Alcázar de San Juan y muchos más… \n  \nEdad recomendada: a partir de 3 años\nDuración: 45 min. \n\n\n\n	FICHA ARTÍSTICA \n\nDIRECCIÓN E INTERPRETACIÓN: Sonia Muñoz\nPROGRAMACIÓN Y TÉCNICO DE AUDIOVISUALES: Petete\nANIMACIONES: Monigotes Estudio 2.0\nESCENOGRAFÍA Y TÍTERES: Roberto Martin\, Antonio Martínez y Taller Titiriguiri.\nMÚSICA ORIGINAL: Miguel Cuevas\nMONTAJE DE SONIDO: Miguel Ángel Varela\nWEB:  Neil Robson\nVOCES EN OFF: Miguel Ángel Varela y Sonia Muñoz.\nPRODUCCIÓN: Titiriguiri\, teatro de Títeres.\n\n\n\n\n\n	\n\n\n\n	También te puede interesar... \n\n\n			\n			\n			\n\n								\n									\n				\n				\n											\n														POPULARES													\n					\n					\n									\n			\n\n		\n							\n			\n			\n\n								\n									\n				\n				\n											\n														TALLERES													\n					\n					\n									\n			\n\n		\n							\n			\n			\n\n								\n									\n				\n				\n											\n														CONCIERTOS													\n					\n					\n									\n			\n\n		\n							\n			\n			\n\n								\n									\n				\n				\n											\n														JUVENILES													\n					\n					\n									\n			\n\n		\n							\n			\n			\n\n								\n									\n				\n				\n											\n														INFANTILES													\n					\n					\n									\n			\n\n			\n\n\n	También te puede interesar... \n\n\n			\n			\n			\n\n								\n									\n				\n				\n											\n														POPULARES													\n					\n					\n									\n			\n\n		\n			\n			\n\n								\n									\n				\n				\n											\n														TALLERES													\n					\n					\n									\n			\n\n		\n			\n			\n\n								\n									\n				\n				\n											\n														CONCIERTOS													\n					\n					\n									\n			\n\n		\n			\n			\n\n								\n									\n				\n				\n											\n														JUVENILES													\n					\n					\n									\n			\n\n		\n			\n			\n\n								\n									\n				\n				\n											\n														INFANTILES													\n					\n					\n									\n			\n\n			\n\n
URL:https://navidad2017.ayto-sotodelreal.es/evento/titeres-el-viaje-de-martin
LOCATION:Calle del Prado\, 15\, Soto del Real\, Madrid\, 28791\, España
ATTACH;FMTTYPE=image/jpeg:https://navidad2017.ayto-sotodelreal.es/wp-content/uploads/2017/12/titeres.jpg
ORGANIZER;CN="Ayto.%20Soto%20del%20Real":MAILTO:respuesta48horas@ayto-sotodelreal.es
END:VEVENT
END:VCALENDAR