BEGIN:VCALENDAR
VERSION:2.0
PRODID:-//Navidad en Soto del Real - ECPv4.6.6//NONSGML v1.0//EN
CALSCALE:GREGORIAN
METHOD:PUBLISH
X-WR-CALNAME:Navidad en Soto del Real
X-ORIGINAL-URL:https://navidad2017.ayto-sotodelreal.es
X-WR-CALDESC:Events for Navidad en Soto del Real
BEGIN:VEVENT
DTSTART;TZID=UTC+1:20180103T110000
DTEND;TZID=UTC+1:20180103T140000
DTSTAMP:20260421T104213
CREATED:20171201T002549Z
LAST-MODIFIED:20171216T132823Z
UID:401-1514977200-1514988000@navidad2017.ayto-sotodelreal.es
SUMMARY:Taller de Iniciación a la Magia
DESCRIPTION:\n\n\n	\n\n\n\n\n	Durante mucho siglos los libros de magia estuvieron prohibidos\, ahora tienes la posibilidad de comenzar el nuevo año aprendiendo trucos increíbles y emular a tus magos favoritos. \nEl próximo 3 de enero pasaremos la mañana\, de 11.00 a 14.00 h.\, en la Casa de la Cultura disfrutando del Taller de Iniciación a la Magia dirigido por el Círculo de Ilusionistas Sierra de Madrid (CISMAD) donde nos enseñarán a realizar trucos sorprendentes\, fantásticos y alucinantes que dejarán boquiabiertos a tu familia y amigos. \nUn mago nunca puede desvelar sus trucos. \nAsí que si tienes más de 8 años y quieres iniciarte en la magia. ¡Apúntate! \n\n\n	También te puede interesar... \n\n\n			\n			\n			\n\n								\n									\n				\n				\n											\n														POPULARES													\n					\n					\n									\n			\n\n		\n							\n			\n			\n\n								\n									\n				\n				\n											\n														TALLERES													\n					\n					\n									\n			\n\n		\n							\n			\n			\n\n								\n									\n				\n				\n											\n														CONCIERTOS													\n					\n					\n									\n			\n\n		\n							\n			\n			\n\n								\n									\n				\n				\n											\n														JUVENILES													\n					\n					\n									\n			\n\n		\n							\n			\n			\n\n								\n									\n				\n				\n											\n														INFANTILES													\n					\n					\n									\n			\n\n			\n\n\n	También te puede interesar... \n\n\n			\n			\n			\n\n								\n									\n				\n				\n											\n														POPULARES													\n					\n					\n									\n			\n\n		\n			\n			\n\n								\n									\n				\n				\n											\n														TALLERES													\n					\n					\n									\n			\n\n		\n			\n			\n\n								\n									\n				\n				\n											\n														CONCIERTOS													\n					\n					\n									\n			\n\n		\n			\n			\n\n								\n									\n				\n				\n											\n														JUVENILES													\n					\n					\n									\n			\n\n		\n			\n			\n\n								\n									\n				\n				\n											\n														INFANTILES													\n					\n					\n									\n			\n\n			\n\n
URL:https://navidad2017.ayto-sotodelreal.es/evento/taller-magia
LOCATION:Calle Real\, 6\, Soto del Real\, Madrid\, 28791\, España
ATTACH;FMTTYPE=image/png:https://navidad2017.ayto-sotodelreal.es/wp-content/uploads/2017/12/taller-magia_prewiew_.png
ORGANIZER;CN="CISMAD%20%28C%C3%ADrculo%20de%20Ilusionistas%20Sierra%20de%20Madrid%29":MAILTO:cismad@cismad.com
END:VEVENT
END:VCALENDAR