BEGIN:VCALENDAR
VERSION:2.0
PRODID:-//Navidad en Soto del Real - ECPv4.6.6//NONSGML v1.0//EN
CALSCALE:GREGORIAN
METHOD:PUBLISH
X-WR-CALNAME:Navidad en Soto del Real
X-ORIGINAL-URL:https://navidad2017.ayto-sotodelreal.es
X-WR-CALDESC:Events for Navidad en Soto del Real
BEGIN:VEVENT
DTSTART;TZID=UTC+1:20171226T110000
DTEND;TZID=UTC+1:20171226T140000
DTSTAMP:20260421T085242
CREATED:20171201T001540Z
LAST-MODIFIED:20171216T131336Z
UID:305-1514286000-1514296800@navidad2017.ayto-sotodelreal.es
SUMMARY:Taller Cabalgata infantil
DESCRIPTION:\n\n\n	\n\n\n\n\n	¿Quieres participar en la elaboración de las carrozas de la Cabalgata de Reyes? ¡Entonces el Taller de Cabalgata es tu lugar!  \nEste año queremos crear un mundo mágico con vuestros "Dibujos Animados" preferidos y necesitamos tus ideas y colaboración. \nSi tienes menos de 11 años\, ayúdanos a crear este mundo mágico con el que recibiremos a los Reyes Magos. Ven a la Casa de la Cultura acompañado por un adulto y participa en este taller. Además de hacer adornos o decorar\, te divertirás y lo pasarás genial. \nAnímate a participar en el Taller y ¡podrás subir a las carrozas el día de la Cabalgata! \n\n\n	También te puede interesar... \n\n\n			\n			\n			\n\n								\n									\n				\n				\n											\n														POPULARES													\n					\n					\n									\n			\n\n		\n							\n			\n			\n\n								\n									\n				\n				\n											\n														TALLERES													\n					\n					\n									\n			\n\n		\n							\n			\n			\n\n								\n									\n				\n				\n											\n														CONCIERTOS													\n					\n					\n									\n			\n\n		\n							\n			\n			\n\n								\n									\n				\n				\n											\n														JUVENILES													\n					\n					\n									\n			\n\n		\n							\n			\n			\n\n								\n									\n				\n				\n											\n														INFANTILES													\n					\n					\n									\n			\n\n			\n\n\n	También te puede interesar... \n\n\n			\n			\n			\n\n								\n									\n				\n				\n											\n														POPULARES													\n					\n					\n									\n			\n\n		\n			\n			\n\n								\n									\n				\n				\n											\n														TALLERES													\n					\n					\n									\n			\n\n		\n			\n			\n\n								\n									\n				\n				\n											\n														CONCIERTOS													\n					\n					\n									\n			\n\n		\n			\n			\n\n								\n									\n				\n				\n											\n														JUVENILES													\n					\n					\n									\n			\n\n		\n			\n			\n\n								\n									\n				\n				\n											\n														INFANTILES													\n					\n					\n									\n			\n\n			\n\n
URL:https://navidad2017.ayto-sotodelreal.es/evento/taller-cabalgata-infantil
LOCATION:Calle Real\, 6\, Soto del Real\, Madrid\, 28791\, España
ATTACH;FMTTYPE=image/jpeg:https://navidad2017.ayto-sotodelreal.es/wp-content/uploads/2017/12/taller-cabalgata.jpg
ORGANIZER;CN="Casa%20de%20la%20Cultura":MAILTO:centrocultural@ayto-sotodelreal.es
END:VEVENT
END:VCALENDAR