BEGIN:VCALENDAR
VERSION:2.0
PRODID:-//Navidad en Soto del Real - ECPv4.6.6//NONSGML v1.0//EN
CALSCALE:GREGORIAN
METHOD:PUBLISH
X-WR-CALNAME:Navidad en Soto del Real
X-ORIGINAL-URL:https://navidad2017.ayto-sotodelreal.es
X-WR-CALDESC:Events for Navidad en Soto del Real
BEGIN:VEVENT
DTSTART;TZID=UTC+1:20171227T170000
DTEND;TZID=UTC+1:20171227T190000
DTSTAMP:20260423T085320
CREATED:20171201T001919Z
LAST-MODIFIED:20171204T062338Z
UID:366-1514394000-1514401200@navidad2017.ayto-sotodelreal.es
SUMMARY:Planetario móvil
DESCRIPTION:\n\n\n	\n\n\n\n\n	La astronomía es una ciencia maravillosa\, y por ello queremos hacerla cercana a los niños para que aprendan\, divirtiéndose\, en nuestro Planetario. \nContaremos con un monitor especializado en Astronomía que les explicará a nuestros niños  los secretos de la Galaxia y de nuestro Sistema Solar. \nAprenderán muchas cosas curiosas\, entre ellas\, que existen millones de Galaxias y la nuestra es de tipo espiral y tiene una edad de ¡13.200 millones de años !\, que cada día de la semana debe su nombre a los Planetas del Sistema Solar\, y que éste se mueve a 2.000 km/hora. \nEl planetario móvil es una cúpula hinchable\, dentro de la cual se instala un proyector que\, a través de programas astronómicos\, nos muestran el cielo de forma totalmente realista. \nLos peques y adultos podrán disfrutar de imágenes impactantes de: \n\nLa Vía Láctea y las Galaxias.\nLas estrellas y sus constelaciones.\nEl Sistema Solar.\n\n \nDisfruta de este momento en familia y no dudes en inscribirte. \n\nPrimera sesión: público infantil de 5 a 8 años.\nSegunda sesión: público infantil de 9 a 12 años\n\nPuedes realizar la inscripción en la Biblioteca Municipal\, o si deseas más información\, puedes llamar al teléfono 91 848 01 14. \n \nTe esperamos el día 27 de diciembre en el Polideportivo del Colegio El Rosario de Soto del Real. \n\n\n	También te puede interesar... \n\n\n			\n			\n			\n\n								\n									\n				\n				\n											\n														POPULARES													\n					\n					\n									\n			\n\n		\n							\n			\n			\n\n								\n									\n				\n				\n											\n														TALLERES													\n					\n					\n									\n			\n\n		\n							\n			\n			\n\n								\n									\n				\n				\n											\n														CONCIERTOS													\n					\n					\n									\n			\n\n		\n							\n			\n			\n\n								\n									\n				\n				\n											\n														JUVENILES													\n					\n					\n									\n			\n\n		\n							\n			\n			\n\n								\n									\n				\n				\n											\n														INFANTILES													\n					\n					\n									\n			\n\n			\n\n\n	También te puede interesar... \n\n\n			\n			\n			\n\n								\n									\n				\n				\n											\n														POPULARES													\n					\n					\n									\n			\n\n		\n			\n			\n\n								\n									\n				\n				\n											\n														TALLERES													\n					\n					\n									\n			\n\n		\n			\n			\n\n								\n									\n				\n				\n											\n														CONCIERTOS													\n					\n					\n									\n			\n\n		\n			\n			\n\n								\n									\n				\n				\n											\n														JUVENILES													\n					\n					\n									\n			\n\n		\n			\n			\n\n								\n									\n				\n				\n											\n														INFANTILES													\n					\n					\n									\n			\n\n			\n\n
URL:https://navidad2017.ayto-sotodelreal.es/evento/planetario-movil
LOCATION:Calle la Orden\, s/n\,\, Soto del Real\, Madrid\, 28791\, España
ATTACH;FMTTYPE=image/jpeg:https://navidad2017.ayto-sotodelreal.es/wp-content/uploads/2017/12/planetario-movil-I.jpg
END:VEVENT
END:VCALENDAR