BEGIN:VCALENDAR
VERSION:2.0
PRODID:-//Navidad en Soto del Real - ECPv4.6.6//NONSGML v1.0//EN
CALSCALE:GREGORIAN
METHOD:PUBLISH
X-WR-CALNAME:Navidad en Soto del Real
X-ORIGINAL-URL:https://navidad2017.ayto-sotodelreal.es
X-WR-CALDESC:Events for Navidad en Soto del Real
BEGIN:VEVENT
DTSTART;TZID=UTC+1:20180103T110000
DTEND;TZID=UTC+1:20180104T140000
DTSTAMP:20260421T100953
CREATED:20171201T002643Z
LAST-MODIFIED:20171204T111857Z
UID:409-1514977200-1515074400@navidad2017.ayto-sotodelreal.es
SUMMARY:Paje Real
DESCRIPTION:\n\n\n	\n\n\n\n\n	Un coche teledirigido para jugar con tus amigos en el parque\, un libro para leerlo por las noches\, la muñeca de rizos que tanto te gusta\, ese patinete verde que viste en el escaparate de la tienda de juguetes\, el juego de la oca para jugar los domingos por la tarde con la familia\, la tablet para buscar información y hacer mejor los deberes \nSi en tu Carta a los Reyes Magos Melchor\, Gaspar y Baltasar tienes apuntados todos estos regalos y muchos más pero no has podido dársela\, no te desanimes. \nPásate por la Casa de la Cultura los días 3 y 4 de enero de 11.00 a 14.00 h.\, y entrégasela en persona al Príncipe Aliatar\, el Paje Real\, él es la persona elegida por Sus Majestades los Magos de Oriente para recoger vuestras cartas y se encargará de hacérsela llegar a tiempo a tu Rey Mago favorito. \n\n\n	También te puede interesar... \n\n\n			\n			\n			\n\n								\n									\n				\n				\n											\n														POPULARES													\n					\n					\n									\n			\n\n		\n							\n			\n			\n\n								\n									\n				\n				\n											\n														TALLERES													\n					\n					\n									\n			\n\n		\n							\n			\n			\n\n								\n									\n				\n				\n											\n														CONCIERTOS													\n					\n					\n									\n			\n\n		\n							\n			\n			\n\n								\n									\n				\n				\n											\n														JUVENILES													\n					\n					\n									\n			\n\n		\n							\n			\n			\n\n								\n									\n				\n				\n											\n														INFANTILES													\n					\n					\n									\n			\n\n			\n\n\n	También te puede interesar... \n\n\n			\n			\n			\n\n								\n									\n				\n				\n											\n														POPULARES													\n					\n					\n									\n			\n\n		\n			\n			\n\n								\n									\n				\n				\n											\n														TALLERES													\n					\n					\n									\n			\n\n		\n			\n			\n\n								\n									\n				\n				\n											\n														CONCIERTOS													\n					\n					\n									\n			\n\n		\n			\n			\n\n								\n									\n				\n				\n											\n														JUVENILES													\n					\n					\n									\n			\n\n		\n			\n			\n\n								\n									\n				\n				\n											\n														INFANTILES													\n					\n					\n									\n			\n\n			\n\n
URL:https://navidad2017.ayto-sotodelreal.es/evento/paje-real
LOCATION:Calle Real\, 6\, Soto del Real\, Madrid\, 28791\, España
ATTACH;FMTTYPE=image/png:https://navidad2017.ayto-sotodelreal.es/wp-content/uploads/2017/12/paje-real_prewiew_.png
ORGANIZER;CN="Ayto.%20Soto%20del%20Real":MAILTO:respuesta48horas@ayto-sotodelreal.es
END:VEVENT
END:VCALENDAR