BEGIN:VCALENDAR
VERSION:2.0
PRODID:-//Navidad en Soto del Real - ECPv4.6.6//NONSGML v1.0//EN
CALSCALE:GREGORIAN
METHOD:PUBLISH
X-WR-CALNAME:Navidad en Soto del Real
X-ORIGINAL-URL:https://navidad2017.ayto-sotodelreal.es
X-WR-CALDESC:Events for Navidad en Soto del Real
BEGIN:VEVENT
DTSTART;TZID=UTC+1:20171223T180000
DTEND;TZID=UTC+1:20171223T180000
DTSTAMP:20260421T120557
CREATED:20171201T001255Z
LAST-MODIFIED:20171204T070633Z
UID:268-1514052000-1514052000@navidad2017.ayto-sotodelreal.es
SUMMARY:Magia de escena
DESCRIPTION:\n\n\n	\n\n\n\n\n	Seguimos disfrutando de la Navidad en Soto del Real\, ahora con nuestro siguiente espectáculo de ilusión “Magia de Escena”\, a cargo de CISMAD (Círculo de Ilusionistas Sierra de Madrid) quienes con hábiles e increíbles trucos harán divertida la tarde para toda la familia. \nCISMAD es la asociación de magos aficionados y profesionales de la sierra madrileña cuyo principal objetivo es fomentar la afición y pasión por el ilusionismo y artes afines. El ilusionismo o la magia como comúnmente la conocemos\, es todo un arte escénico\, lleno de habilidad e ingenio para producir efectos deslumbrantes sin una explicación lógica aparente\, con ello busca crear asombro de grata manera. \nAsí que déjate sorprender con el espectáculo “Magia de Escena” el 23 de diciembre de 18:00 a 20:00 hrs. en los salones municipales Prado Real (junto a la piscina municipal). \nLas condiciones para el uso de las entradas son: \n\nEs una actividad gratuita.\nNo podrán recogerse más de 4 entradas por familia (excepto familia numerosa).\nEn caso de que no puedan acudir al evento\, rogamos lo comuniquen con una antelación mayor de 48 horas.\nLas entradas serán recogidas a la entrada del teatro.\n\n\n\n	También te puede interesar... \n\n\n			\n			\n			\n\n								\n									\n				\n				\n											\n														POPULARES													\n					\n					\n									\n			\n\n		\n							\n			\n			\n\n								\n									\n				\n				\n											\n														TALLERES													\n					\n					\n									\n			\n\n		\n							\n			\n			\n\n								\n									\n				\n				\n											\n														CONCIERTOS													\n					\n					\n									\n			\n\n		\n							\n			\n			\n\n								\n									\n				\n				\n											\n														JUVENILES													\n					\n					\n									\n			\n\n		\n							\n			\n			\n\n								\n									\n				\n				\n											\n														INFANTILES													\n					\n					\n									\n			\n\n			\n\n\n	También te puede interesar... \n\n\n			\n			\n			\n\n								\n									\n				\n				\n											\n														POPULARES													\n					\n					\n									\n			\n\n		\n			\n			\n\n								\n									\n				\n				\n											\n														TALLERES													\n					\n					\n									\n			\n\n		\n			\n			\n\n								\n									\n				\n				\n											\n														CONCIERTOS													\n					\n					\n									\n			\n\n		\n			\n			\n\n								\n									\n				\n				\n											\n														JUVENILES													\n					\n					\n									\n			\n\n		\n			\n			\n\n								\n									\n				\n				\n											\n														INFANTILES													\n					\n					\n									\n			\n\n			\n\n
URL:https://navidad2017.ayto-sotodelreal.es/evento/magia-de-escena
LOCATION:Calle del Prado\, 15\, Soto del Real\, Madrid\, 28791\, España
ATTACH;FMTTYPE=image/png:https://navidad2017.ayto-sotodelreal.es/wp-content/uploads/2017/12/magia-escena_prewiew_.png
ORGANIZER;CN="CISMAD%20%28C%C3%ADrculo%20de%20Ilusionistas%20Sierra%20de%20Madrid%29":MAILTO:cismad@cismad.com
END:VEVENT
END:VCALENDAR