BEGIN:VCALENDAR
VERSION:2.0
PRODID:-//Navidad en Soto del Real - ECPv4.6.6//NONSGML v1.0//EN
CALSCALE:GREGORIAN
METHOD:PUBLISH
X-WR-CALNAME:Navidad en Soto del Real
X-ORIGINAL-URL:https://navidad2017.ayto-sotodelreal.es
X-WR-CALDESC:Events for Navidad en Soto del Real
BEGIN:VEVENT
DTSTART;TZID=UTC+1:20171223T120000
DTEND;TZID=UTC+1:20171223T120000
DTSTAMP:20260421T103132
CREATED:20171201T001145Z
LAST-MODIFIED:20171204T070517Z
UID:265-1514030400-1514030400@navidad2017.ayto-sotodelreal.es
SUMMARY:Magia de cerca
DESCRIPTION:\n\n\n	\n\n\n\n\n	Vive la magia de la Navidad en Soto del Real con este fascinante espectáculo de ilusión denominado “Magia de Cerca”\, con hábiles e increíbles trucos a cargo de CISMAD (Círculo de Ilusionistas Sierra de Madrid)\, un evento ideal para el disfrute de toda la familia. \nCISMAD es la asociación de magos aficionados y profesionales de la sierra madrileña cuyo principal objetivo es fomentar la afición y pasión por el ilusionismo y artes afines. El ilusionismo o la magia como comúnmente la conocemos\, es todo un arte escénico\, lleno de habilidad e ingenio para producir efectos deslumbrantes sin una explicación lógica aparente\, con ello busca crear asombro de grata manera. \nAsí que déjate sorprender con el espectáculo “Magia de Cerca” el 23 de diciembre a las 12:00 h. en la Casa de la Cultura\, comprobarás en su MAGIA la ilusión de creer en lo increíble. \nLas condiciones para el uso de las entradas son: \n\nEs una actividad gratuita.\nNo podrán recogerse más de 4 entradas por familia (excepto familia numerosa).\nEn caso de que no puedan acudir al evento\, rogamos lo comuniquen con una antelación mayor de 48 horas.\nLas entradas serán recogidas a la entrada del teatro.\n\n\n\n	También te puede interesar... \n\n\n			\n			\n			\n\n								\n									\n				\n				\n											\n														POPULARES													\n					\n					\n									\n			\n\n		\n							\n			\n			\n\n								\n									\n				\n				\n											\n														TALLERES													\n					\n					\n									\n			\n\n		\n							\n			\n			\n\n								\n									\n				\n				\n											\n														CONCIERTOS													\n					\n					\n									\n			\n\n		\n							\n			\n			\n\n								\n									\n				\n				\n											\n														JUVENILES													\n					\n					\n									\n			\n\n		\n							\n			\n			\n\n								\n									\n				\n				\n											\n														INFANTILES													\n					\n					\n									\n			\n\n			\n\n\n	También te puede interesar... \n\n\n			\n			\n			\n\n								\n									\n				\n				\n											\n														POPULARES													\n					\n					\n									\n			\n\n		\n			\n			\n\n								\n									\n				\n				\n											\n														TALLERES													\n					\n					\n									\n			\n\n		\n			\n			\n\n								\n									\n				\n				\n											\n														CONCIERTOS													\n					\n					\n									\n			\n\n		\n			\n			\n\n								\n									\n				\n				\n											\n														JUVENILES													\n					\n					\n									\n			\n\n		\n			\n			\n\n								\n									\n				\n				\n											\n														INFANTILES													\n					\n					\n									\n			\n\n			\n\n
URL:https://navidad2017.ayto-sotodelreal.es/evento/magia-de-cerca
LOCATION:Calle Real\, 6\, Soto del Real\, Madrid\, 28791\, España
ATTACH;FMTTYPE=image/png:https://navidad2017.ayto-sotodelreal.es/wp-content/uploads/2017/12/magia-cerca_prewiew_.png
ORGANIZER;CN="CISMAD%20%28C%C3%ADrculo%20de%20Ilusionistas%20Sierra%20de%20Madrid%29":MAILTO:cismad@cismad.com
END:VEVENT
END:VCALENDAR