BEGIN:VCALENDAR
VERSION:2.0
PRODID:-//Navidad en Soto del Real - ECPv4.6.6//NONSGML v1.0//EN
CALSCALE:GREGORIAN
METHOD:PUBLISH
X-WR-CALNAME:Navidad en Soto del Real
X-ORIGINAL-URL:https://navidad2017.ayto-sotodelreal.es
X-WR-CALDESC:Events for Navidad en Soto del Real
BEGIN:VEVENT
DTSTART;TZID=UTC+1:20171229T170000
DTEND;TZID=UTC+1:20171229T170000
DTSTAMP:20260421T123934
CREATED:20171201T002120Z
LAST-MODIFIED:20171215T172127Z
UID:389-1514566800-1514566800@navidad2017.ayto-sotodelreal.es
SUMMARY:Cuentacuentos "Légolas"
DESCRIPTION:\n\n\n	\n\n\n\n\n	Valiéndose de cuentos narrativos\, títeres\, juegos creativos y el tradicional guiñol el equipo de Légolas Colectivo Escénico\, hará disfrutar y sonreír a los más peques de la casa. \nLégolas\, nace en Alcalá de Henares en 1991 como un colectivo dedicado a diferentes lenguajes escénicos y de comunicación\, desde entonces\, son un equipo en constante crecimiento cuya filosofía se basa en el juego como herramienta creativa\, especialmente dedicado a los niños\, no cabe dudas un público muy singular. \n  \nAsí que no lo penséis más e inscribiros para participar en una de estas funciones: \n\nEspecial Bebés - A las 17:00 h\nEspecial Peques - A las 18:30 h (Niños y niñas a partir de 4 años)\n\n  \nRecuerda\, viernes 29 de diciembre en el Salón de Actos de la Casa de la Cultura. Venid a disfrutar de éste espectáculo narrativo. \n\n\n	También te puede interesar... \n\n\n			\n			\n			\n\n								\n									\n				\n				\n											\n														POPULARES													\n					\n					\n									\n			\n\n		\n							\n			\n			\n\n								\n									\n				\n				\n											\n														TALLERES													\n					\n					\n									\n			\n\n		\n							\n			\n			\n\n								\n									\n				\n				\n											\n														CONCIERTOS													\n					\n					\n									\n			\n\n		\n							\n			\n			\n\n								\n									\n				\n				\n											\n														JUVENILES													\n					\n					\n									\n			\n\n		\n							\n			\n			\n\n								\n									\n				\n				\n											\n														INFANTILES													\n					\n					\n									\n			\n\n			\n\n\n	También te puede interesar... \n\n\n			\n			\n			\n\n								\n									\n				\n				\n											\n														POPULARES													\n					\n					\n									\n			\n\n		\n			\n			\n\n								\n									\n				\n				\n											\n														TALLERES													\n					\n					\n									\n			\n\n		\n			\n			\n\n								\n									\n				\n				\n											\n														CONCIERTOS													\n					\n					\n									\n			\n\n		\n			\n			\n\n								\n									\n				\n				\n											\n														JUVENILES													\n					\n					\n									\n			\n\n		\n			\n			\n\n								\n									\n				\n				\n											\n														INFANTILES													\n					\n					\n									\n			\n\n			\n\n
URL:https://navidad2017.ayto-sotodelreal.es/evento/cuentacuentos
LOCATION:Calle del Prado\, 15\, Soto del Real\, Madrid\, 28791\, España
ATTACH;FMTTYPE=image/jpeg:https://navidad2017.ayto-sotodelreal.es/wp-content/uploads/2017/12/cuentacuentos-legolas.jpg
ORGANIZER;CN="Casa%20de%20la%20Cultura":MAILTO:centrocultural@ayto-sotodelreal.es
END:VEVENT
END:VCALENDAR